BEGIN:VCALENDAR
VERSION:2.0
PRODID:-//folkclarinet - ECPv6.15.1.1//NONSGML v1.0//EN
CALSCALE:GREGORIAN
METHOD:PUBLISH
X-WR-CALNAME:folkclarinet
X-ORIGINAL-URL:https://folkclarinet.com
X-WR-CALDESC:Events for folkclarinet
REFRESH-INTERVAL;VALUE=DURATION:PT1H
X-Robots-Tag:noindex
X-PUBLISHED-TTL:PT1H
BEGIN:VTIMEZONE
TZID:UTC
BEGIN:STANDARD
TZOFFSETFROM:+0000
TZOFFSETTO:+0000
TZNAME:UTC
DTSTART:20150101T000000
END:STANDARD
END:VTIMEZONE
BEGIN:VTIMEZONE
TZID:America/Chicago
BEGIN:DAYLIGHT
TZOFFSETFROM:-0600
TZOFFSETTO:-0500
TZNAME:CDT
DTSTART:20150308T080000
END:DAYLIGHT
BEGIN:STANDARD
TZOFFSETFROM:-0500
TZOFFSETTO:-0600
TZNAME:CST
DTSTART:20151101T070000
END:STANDARD
END:VTIMEZONE
BEGIN:VEVENT
DTSTART;TZID=UTC:20160605T170000
DTEND;TZID=UTC:20160605T220000
DTSTAMP:20260423T163409
CREATED:20160527T200626Z
LAST-MODIFIED:20160527T200626Z
UID:221-1465146000-1465164000@folkclarinet.com
SUMMARY:HORA Gala 2016
DESCRIPTION:Join the Heritage Organization of Romanian Americans in Minnesota as they celebrate and recognize those who give their time and energy in serving the Romanian-American community. All proceeds from this event will go towards their ambitious documentary project relating the untold stories of Romanian immigration to the US during the communist years. \nThe Gala features a cocktail hour\, three-course meal\, and performances by Codrut Birsan and Diana Stoic. Sâmbra Oilor will also perform a set of Romanian interbellum songs around 7:45. \nhttp://www.hora-gala2016.org/
URL:https://folkclarinet.com/performance/hora-gala-2016/
LOCATION:Prestwick Golf Club Ballroom\,  9555 Wedgewood Dr\, Woodbury\, MN\, 55125\, United States
END:VEVENT
BEGIN:VEVENT
DTSTART;TZID=America/Chicago:20151121T193000
DTEND;TZID=America/Chicago:20151121T223000
DTSTAMP:20260423T163409
CREATED:20151019T224053Z
LAST-MODIFIED:20151019T224312Z
UID:167-1448134200-1448145000@folkclarinet.com
SUMMARY:Romanian Party with Sâmbra Oilor/Petrecere româneasca cu Sâmbra Oilor
DESCRIPTION:Katrina will feature her new instrument\, the taragot\, in performance with the new band\, Sâmbra Oilor\, on November 21\, 2015\, at Celtic Junction. The concert and dance party will begin with dance instruction at 7:30 pm with John Omorean\, director of the Twin Cities’ Romanian dance ensemble Izvorașul. No partner is necessary although some of the dances do involve partners. At 8:15 the live band will take the stage\, and play two sets of music from around Romania\, but focusing on the southwest region called Banat. \nSâmbra Oilor includes Sydney Lefevre (violin)\, Matt Miller (bass)\, Natalie Nowytski (voice)\, Jim Parker (guitar and kontra\, Eric Ray (accordion)\, and Jenny Schultz (cimbalom). All the musicians met through the Ethnic Dance Theatre’s (EDT) Folk Orchestra\, and are passionate about traditional music from around the world. They take their name from a dance suite they originally performed with EDT in 2007. “Sâmbra Oilor” is a ritual from the Oaș region of Maramureș\, to the north of Transylvania and is celebrated in the spring when the shepherds leave their village to journey to their summer pastures with the sheep. \n  \n  \n \nKatrina Mundinger is a fiscal year 2015 recipient of an Artist Initiative grant from the Minnesota State Arts Board. This activity is made possible by the voters of Minnesota through a grant from the Minnesota State Arts Board\, thanks to a legislative appropriation by the Minnesota State Legislature; and by a grant from the National Endowment for the Arts.
URL:https://folkclarinet.com/performance/romanian-party-with-sambra-oilorpetrecere-romaneasca-cu-sambra-oilor/
LOCATION:The Celtic Junction\, 836 Prior Avenue\, St Paul\, MN\, 55104\, United States
CATEGORIES:Concert and Dance Party
END:VEVENT
BEGIN:VEVENT
DTSTART;TZID=UTC:20151119T193000
DTEND;TZID=UTC:20151119T213000
DTSTAMP:20260423T163409
CREATED:20151019T225204Z
LAST-MODIFIED:20151019T225204Z
UID:173-1447961400-1447968600@folkclarinet.com
SUMMARY:Orkestar Bez Ime 3rd Thursday Series at the Black Dog
DESCRIPTION:Orkestar Bez Ime (OBI) brings Balkan party music the 3rd Thursday of every month to Black Dog Coffee & Wine Bar in St. Paul. Always free and family-friendly\, it’s a great way to get in some dancing between sips of tap beer and bites of quesadillas!
URL:https://folkclarinet.com/performance/orkestar-bez-ime-3rd-thursday-series-at-the-black-dog/
LOCATION:Black Dog Cafe and Wine Bar\, 308 Prince St\, St Paul\, MN\, 55101\, United States
END:VEVENT
BEGIN:VEVENT
DTSTART;TZID=UTC:20151024T203000
DTEND;TZID=UTC:20151024T233000
DTSTAMP:20260423T163409
CREATED:20151019T224833Z
LAST-MODIFIED:20151019T224905Z
UID:171-1445718600-1445729400@folkclarinet.com
SUMMARY:Orkestar Bez Ime at Tapestry Folkdance Center
DESCRIPTION:Orkestar Bez Ime (OBI) performs at Tapestry’s Fall International Weekend on Saturday October 24. The acclaimed Balkan party band will play 3 sets for dancers starting at 8:30 pm. Ahmet Lüleçi will be the featured teacher for the weekend.
URL:https://folkclarinet.com/performance/orkestar-bez-ime-at-tapestry-folkdance-center/
LOCATION:Tapestry Folkdance Center\, 3748 Minnehaha Avenue\, Minneapolis\, MN\, 55406\, United States
CATEGORIES:Dance Party
END:VEVENT
END:VCALENDAR