BEGIN:VCALENDAR
VERSION:2.0
PRODID:-//folkclarinet - ECPv6.15.1.1//NONSGML v1.0//EN
CALSCALE:GREGORIAN
METHOD:PUBLISH
X-ORIGINAL-URL:https://folkclarinet.com
X-WR-CALDESC:Events for folkclarinet
REFRESH-INTERVAL;VALUE=DURATION:PT1H
X-Robots-Tag:noindex
X-PUBLISHED-TTL:PT1H
BEGIN:VTIMEZONE
TZID:UTC
BEGIN:STANDARD
TZOFFSETFROM:+0000
TZOFFSETTO:+0000
TZNAME:UTC
DTSTART:20150101T000000
END:STANDARD
END:VTIMEZONE
BEGIN:VEVENT
DTSTART;TZID=UTC:20151024T203000
DTEND;TZID=UTC:20151024T233000
DTSTAMP:20260423T210252
CREATED:20151019T224833Z
LAST-MODIFIED:20151019T224905Z
UID:171-1445718600-1445729400@folkclarinet.com
SUMMARY:Orkestar Bez Ime at Tapestry Folkdance Center
DESCRIPTION:Orkestar Bez Ime (OBI) performs at Tapestry’s Fall International Weekend on Saturday October 24. The acclaimed Balkan party band will play 3 sets for dancers starting at 8:30 pm. Ahmet Lüleçi will be the featured teacher for the weekend.
URL:https://folkclarinet.com/performance/orkestar-bez-ime-at-tapestry-folkdance-center/
LOCATION:Tapestry Folkdance Center\, 3748 Minnehaha Avenue\, Minneapolis\, MN\, 55406\, United States
CATEGORIES:Dance Party
END:VEVENT
END:VCALENDAR